BEGIN:VCALENDAR
VERSION:2.0
PRODID:-//hacksw/handcal//NONSGML v1.0//EN
BEGIN:VEVENT
SUMMARY:Initiation PARAHAND FAUTEUIL
UID:f5c5725f-d544-417a-b1f3-ae1e74e6ac29
DTSTART:20260429T070000Z
DTEND:20260429T140000Z
LOCATION:Localisation SALLE DES SPORTS VAROIS ET CHAIGNOTS 21490 VAROIS ET CHAIGNOTS
CATEGORIES:Sportif
STATUS:
URL;VALUE=URI:https://www.comitecotedorhandball.com/evenements/2026/04/29/initiation-parahand-fauteuil-2444580
END:VEVENT
END:VCALENDAR
